BEGIN:VCALENDAR
VERSION:2.0
PRODID:-//Britfoos - ECPv6.15.17//NONSGML v1.0//EN
CALSCALE:GREGORIAN
METHOD:PUBLISH
X-ORIGINAL-URL:https://britfoos.com
X-WR-CALDESC:Events for Britfoos
REFRESH-INTERVAL;VALUE=DURATION:PT1H
X-Robots-Tag:noindex
X-PUBLISHED-TTL:PT1H
BEGIN:VTIMEZONE
TZID:Europe/London
BEGIN:DAYLIGHT
TZOFFSETFROM:+0000
TZOFFSETTO:+0100
TZNAME:BST
DTSTART:20230326T010000
END:DAYLIGHT
BEGIN:STANDARD
TZOFFSETFROM:+0100
TZOFFSETTO:+0000
TZNAME:GMT
DTSTART:20231029T010000
END:STANDARD
BEGIN:DAYLIGHT
TZOFFSETFROM:+0000
TZOFFSETTO:+0100
TZNAME:BST
DTSTART:20240331T010000
END:DAYLIGHT
BEGIN:STANDARD
TZOFFSETFROM:+0100
TZOFFSETTO:+0000
TZNAME:GMT
DTSTART:20241027T010000
END:STANDARD
BEGIN:DAYLIGHT
TZOFFSETFROM:+0000
TZOFFSETTO:+0100
TZNAME:BST
DTSTART:20250330T010000
END:DAYLIGHT
BEGIN:STANDARD
TZOFFSETFROM:+0100
TZOFFSETTO:+0000
TZNAME:GMT
DTSTART:20251026T010000
END:STANDARD
END:VTIMEZONE
BEGIN:VEVENT
DTSTART;VALUE=DATE:20241004
DTEND;VALUE=DATE:20241007
DTSTAMP:20260422T034211
CREATED:20231017T094002Z
LAST-MODIFIED:20240812T104135Z
UID:3001-1728000000-1728259199@britfoos.com
SUMMARY:UK Masters II
DESCRIPTION:The UK Masters returns! The British Foosball Association invite players from around the world to take part in the largest UK tournament of the year\, the UK Masters II. \nYou can find all the details in the infopack here: UK Masters II Infopack \nTo register\, head to Coral and search for “UK Masters II”: app.tablesoccer.org/
URL:https://britfoos.com/event/uk-masters-2/
LOCATION:Peckham Levels\, Centre Carpark\, F1-F6\, 95A Rye Lane\, London\, SE15 4ST\, United Kingdom
CATEGORIES:1. ITSF 500,London
ATTACH;FMTTYPE=image/png:https://britfoos.com/wp-content/uploads/2023/10/UK-Masters-II-Infopack.png
ORGANIZER;CN="British Foosball Association":MAILTO:contact@britfoos.com
END:VEVENT
END:VCALENDAR