BEGIN:VCALENDAR
VERSION:2.0
PRODID:-//Britfoos - ECPv6.15.17//NONSGML v1.0//EN
CALSCALE:GREGORIAN
METHOD:PUBLISH
X-WR-CALNAME:Britfoos
X-ORIGINAL-URL:https://britfoos.com
X-WR-CALDESC:Events for Britfoos
REFRESH-INTERVAL;VALUE=DURATION:PT1H
X-Robots-Tag:noindex
X-PUBLISHED-TTL:PT1H
BEGIN:VTIMEZONE
TZID:Europe/London
BEGIN:DAYLIGHT
TZOFFSETFROM:+0000
TZOFFSETTO:+0100
TZNAME:BST
DTSTART:20230326T010000
END:DAYLIGHT
BEGIN:STANDARD
TZOFFSETFROM:+0100
TZOFFSETTO:+0000
TZNAME:GMT
DTSTART:20231029T010000
END:STANDARD
BEGIN:DAYLIGHT
TZOFFSETFROM:+0000
TZOFFSETTO:+0100
TZNAME:BST
DTSTART:20240331T010000
END:DAYLIGHT
BEGIN:STANDARD
TZOFFSETFROM:+0100
TZOFFSETTO:+0000
TZNAME:GMT
DTSTART:20241027T010000
END:STANDARD
BEGIN:DAYLIGHT
TZOFFSETFROM:+0000
TZOFFSETTO:+0100
TZNAME:BST
DTSTART:20250330T010000
END:DAYLIGHT
BEGIN:STANDARD
TZOFFSETFROM:+0100
TZOFFSETTO:+0000
TZNAME:GMT
DTSTART:20251026T010000
END:STANDARD
END:VTIMEZONE
BEGIN:VEVENT
DTSTART;VALUE=DATE:20240524
DTEND;VALUE=DATE:20240527
DTSTAMP:20260422T125139
CREATED:20231017T094851Z
LAST-MODIFIED:20240318T122352Z
UID:3004-1716508800-1716767999@britfoos.com
SUMMARY:London Masters
DESCRIPTION:The British Foosball Association is delighted to announce the London Masters ITSF 500 tournament. This will be one of the UK’s largest tournaments of the year. \nThe tournament will be held in Peckham Levels\, London\, from May 24 through May 26 and will be played on 13x Tornado tables. \nThere is a capacity limit of 104 players for this tournament with places determined by time of registration. \nRegistration is now OPEN. Please register by signing into Coral at app.tablesoccer.org/\, click “Join Tournament”\, find the London Masters\, and complete your registration. \nAll information can be found in the infopack here: London Masters Infopack
URL:https://britfoos.com/event/london-masters/
LOCATION:Peckham Levels\, Centre Carpark\, F1-F6\, 95A Rye Lane\, London\, SE15 4ST\, United Kingdom
CATEGORIES:1. ITSF 500,London
ATTACH;FMTTYPE=image/png:https://britfoos.com/wp-content/uploads/2023/10/London-Masters-Infopack.png
ORGANIZER;CN="British Foosball Association":MAILTO:contact@britfoos.com
END:VEVENT
END:VCALENDAR