BEGIN:VCALENDAR
VERSION:2.0
PRODID:-//Britfoos - ECPv6.15.17//NONSGML v1.0//EN
CALSCALE:GREGORIAN
METHOD:PUBLISH
X-ORIGINAL-URL:https://britfoos.com
X-WR-CALDESC:Events for Britfoos
REFRESH-INTERVAL;VALUE=DURATION:PT1H
X-Robots-Tag:noindex
X-PUBLISHED-TTL:PT1H
BEGIN:VTIMEZONE
TZID:Europe/London
BEGIN:DAYLIGHT
TZOFFSETFROM:+0000
TZOFFSETTO:+0100
TZNAME:BST
DTSTART:20220327T010000
END:DAYLIGHT
BEGIN:STANDARD
TZOFFSETFROM:+0100
TZOFFSETTO:+0000
TZNAME:GMT
DTSTART:20221030T010000
END:STANDARD
BEGIN:DAYLIGHT
TZOFFSETFROM:+0000
TZOFFSETTO:+0100
TZNAME:BST
DTSTART:20230326T010000
END:DAYLIGHT
BEGIN:STANDARD
TZOFFSETFROM:+0100
TZOFFSETTO:+0000
TZNAME:GMT
DTSTART:20231029T010000
END:STANDARD
BEGIN:DAYLIGHT
TZOFFSETFROM:+0000
TZOFFSETTO:+0100
TZNAME:BST
DTSTART:20240331T010000
END:DAYLIGHT
BEGIN:STANDARD
TZOFFSETFROM:+0100
TZOFFSETTO:+0000
TZNAME:GMT
DTSTART:20241027T010000
END:STANDARD
END:VTIMEZONE
BEGIN:VEVENT
DTSTART;VALUE=DATE:20231006
DTEND;VALUE=DATE:20231009
DTSTAMP:20260423T012525
CREATED:20230601T124847Z
LAST-MODIFIED:20231108T102505Z
UID:1391-1696550400-1696809599@britfoos.com
SUMMARY:UK Masters
DESCRIPTION:PLEASE NOTE THIS EVENT IS SOLD OUT! \nThe UK Masters is confirmed! This will be the largest tournament in the UK in 2023\, held on 13x Tornados\, and is an ITSF Master Series tournament. \nHeld in a fantastic venue – Peckham Levels – in London\, this tournament will attract players from around Europe and further afield. \nThe infopack will all details can be found here: UK Masters Infopack \nRegistration is now CLOSED.
URL:https://britfoos.com/event/uk-masters/
LOCATION:Peckham Levels\, Centre Carpark\, F1-F6\, 95A Rye Lane\, London\, SE15 4ST\, United Kingdom
CATEGORIES:1. ITSF 500,London
ATTACH;FMTTYPE=image/png:https://britfoos.com/wp-content/uploads/2023/07/UK-Masters-Infopack.png
ORGANIZER;CN="British Foosball Association":MAILTO:contact@britfoos.com
END:VEVENT
END:VCALENDAR